BEGIN:VCALENDAR
VERSION:2.0
PRODID:EVENTFROG//EVENT//ICAL
BEGIN:VEVENT
UID:20260422T013153Z-7431735926387175503@eventfrog.de
DTSTAMP:20260422T013153Z
DTSTART:20260704T060000Z
DTEND:20260704T090000Z
SUMMARY:Wie Naturschutzpflege Vielfalt schafft
DESCRIPTION:Lichte Wälder und lebendige Teiche – Försterin Pia Wendrich erklärt, wie Pflegearbeiten diese wertvollen Lebensräume erhalten.\n\nhttps://eventfrog.de/de/p/freizeit-ausfluege/ausflug/wie-naturschutzpflege-vielfalt-schafft-7431735926387175503.html
LOCATION:Naturzentrum Thurauen
GEO:47.579200;8.581180
URL:https://eventfrog.de/de/p/freizeit-ausfluege/ausflug/wie-naturschutzpflege-vielfalt-schafft-7431735926387175503.html
END:VEVENT
END:VCALENDAR