BEGIN:VCALENDAR
VERSION:2.0
PRODID:EVENTFROG//EVENT//ICAL
BEGIN:VEVENT
UID:20260422T013301Z-7431736656556764951@eventfrog.de
DTSTAMP:20260422T013301Z
DTSTART:20260719T070000Z
DTEND:20260719T093000Z
SUMMARY:Familientag bei den Greifvögeln 1
DESCRIPTION:Lernen Sie mit Ihrer Familie die häufigsten Greifvogelarten spielerisch kennen und begegnen Sie ihnen hautnah in der Greifvogelstation Berg am Irchel.\n\nhttps://eventfrog.de/de/p/fuehrungen-vortraege/fuehrung/familientag-bei-den-greifvoegeln-1-7431736656556764951.html
LOCATION:Greifvogelstation
GEO:47.570100;8.597750
URL:https://eventfrog.de/de/p/fuehrungen-vortraege/fuehrung/familientag-bei-den-greifvoegeln-1-7431736656556764951.html
END:VEVENT
END:VCALENDAR