BEGIN:VCALENDAR
VERSION:2.0
PRODID:EVENTFROG//EVENT//ICAL
BEGIN:VEVENT
UID:20260422T014200Z-7431737601566996323@eventfrog.de
DTSTAMP:20260422T014200Z
DTSTART:20260721T183000Z
DTEND:20260721T213000Z
SUMMARY:NaturFilm-Abend: «Adlerjägerin» – Die Tradition der Beizjagd
DESCRIPTION:Falkner Mathias Hubacher gibt Einblicke in die uralte Tradition der Beizjagd und zeigt einen Beizvogel hautnah. Anschliessend zeigen wir den Film Adlerjägerin.\n\nhttps://eventfrog.de/de/p/kinderveranstaltungen/familienveranstaltungen/naturfilm-abend-adlerjaegerin-die-tradition-der-beizjagd-7431737601566996323.html
LOCATION:Naturzentrum Thurauen
GEO:47.579200;8.581180
URL:https://eventfrog.de/de/p/kinderveranstaltungen/familienveranstaltungen/naturfilm-abend-adlerjaegerin-die-tradition-der-beizjagd-7431737601566996323.html
END:VEVENT
END:VCALENDAR