BEGIN:VCALENDAR
VERSION:2.0
PRODID:EVENTFROG//EVENT//ICAL
BEGIN:VEVENT
UID:20260422T013322Z-7431738468999385797@eventfrog.de
DTSTAMP:20260422T013322Z
DTSTART:20260725T070000Z
DTEND:20260725T093000Z
SUMMARY:Besuch der Greifvogelstation: Schwerpunktthema Fischadler
DESCRIPTION:Werfen Sie einen Blick hinter die Kulissen und erfahren Sie mehr über den Fischadler, eine wunderschöne Greifvogelart, die in der Schweiz so gut wie ausgestorben ist.\n\nhttps://eventfrog.de/de/p/fuehrungen-vortraege/fuehrung/besuch-der-greifvogelstation-schwerpunktthema-fischadler-7431738468999385797.html
LOCATION:Greifvogelstation
GEO:47.570100;8.597750
URL:https://eventfrog.de/de/p/fuehrungen-vortraege/fuehrung/besuch-der-greifvogelstation-schwerpunktthema-fischadler-7431738468999385797.html
END:VEVENT
END:VCALENDAR