BEGIN:VCALENDAR
VERSION:2.0
PRODID:EVENTFROG//EVENT//ICAL
BEGIN:VEVENT
UID:20260425T222355Z-7432007763889283809@eventfrog.de
DTSTAMP:20260425T222355Z
DTSTART:20260607T123000Z
DTEND:20260607T143000Z
SUMMARY:Tanzshow Airport Terminal
DESCRIPTION:140 junge Tänzerinnen und Tänzer zeigen unter dem Motto «Airport Terminal» eine dynamische Tanzreise voller Bewegung und Emotionen.\n\nhttps://eventfrog.de/de/p/musicals-shows/tanzshow/tanzshow-airport-terminal-7432007763889283809.html
LOCATION:Turnhalle Wygarten
GEO:47.243703;8.462883
URL:https://eventfrog.de/de/p/musicals-shows/tanzshow/tanzshow-airport-terminal-7432007763889283809.html
END:VEVENT
END:VCALENDAR