BEGIN:VCALENDAR
VERSION:2.0
PRODID:EVENTFROG//EVENT//ICAL
BEGIN:VEVENT
UID:20260425T222356Z-7432095655705711879@eventfrog.de
DTSTAMP:20260425T222356Z
DTSTART:20260606T150000Z
DTEND:20260606T170000Z
SUMMARY:Tanzshow Airport Terminal
DESCRIPTION:140 junge Tänzerinnen und Tänzer zeigen unter dem Motto «Airport Terminal» eine dynamische Tanzreise voller Bewegung und Emotionen.\n\nhttps://eventfrog.de/de/p/musicals-shows/tanzshow/tanzshow-airport-terminal-7432095655705711879.html
LOCATION:Turnhalle Wygarten
GEO:47.243703;8.462883
URL:https://eventfrog.de/de/p/musicals-shows/tanzshow/tanzshow-airport-terminal-7432095655705711879.html
END:VEVENT
END:VCALENDAR