BEGIN:VCALENDAR
VERSION:2.0
PRODID:EVENTFROG//EVENT//ICAL
BEGIN:VEVENT
UID:20260421T235214Z-7432263144087536102@eventfrog.de
DTSTAMP:20260421T235214Z
DTSTART:20260619T171500Z
DTEND:20260619T191500Z
SUMMARY:Buchberg Classix: Virtuose Begegnungen zwischen Intimität un
DESCRIPTION:E. Grieg (1843 - 1907) Aus Holbergs Zeit - Suite im alten Stil Op. 40 1. Präludium (Allegro vivace) 2. Sarabande (Andante) 3. Gavotte...\n\nhttps://eventfrog.de/de/p/klassik-opern/klassik/buchberg-classix-virtuose-begegnungen-zwischen-intimitaet-un-7432263144087536102.html
LOCATION:Buchberg, Kirche
GEO:47.574340;8.565858
URL:https://eventfrog.de/de/p/klassik-opern/klassik/buchberg-classix-virtuose-begegnungen-zwischen-intimitaet-un-7432263144087536102.html
END:VEVENT
END:VCALENDAR