BEGIN:VCALENDAR
VERSION:2.0
PRODID:EVENTFROG//EVENT//ICAL
BEGIN:VEVENT
UID:20260421T235214Z-7432263144565686769@eventfrog.de
DTSTAMP:20260421T235214Z
DTSTART:20260509T233000Z
DTEND:20260510T013000Z
SUMMARY:Temperamentvoll. Kapustin, Schnyder & finnische Tangos
DESCRIPTION:Ein farbenreiches Programm mit finnischen Tangos in einem kammermusikalischen Arrangement für Violoncello und Klavier sowie jazzinspirierten Werken...\n\nhttps://eventfrog.de/de/p/klassik-opern/klassik/temperamentvoll-kapustin-schnyder-finnische-tangos-7432263144565686769.html
LOCATION:Stiftung Begegnungszentrum Rüdlingen
GEO:47.588226;8.568220
URL:https://eventfrog.de/de/p/klassik-opern/klassik/temperamentvoll-kapustin-schnyder-finnische-tangos-7432263144565686769.html
END:VEVENT
END:VCALENDAR