BEGIN:VCALENDAR
VERSION:2.0
PRODID:EVENTFROG//EVENT//ICAL
BEGIN:VEVENT
UID:20260421T235214Z-7432263145685566069@eventfrog.de
DTSTAMP:20260421T235214Z
DTSTART:20260821T170000Z
DTEND:20260821T190000Z
SUMMARY:J. S. Bach: BWV 177 «Ich ruf zu dir, Herr Jesu Christ»
DESCRIPTION:Kantate zum 4. Sonntag nach Trinitatis, für Sopran, Alt und Tenor, Vokalensemble, Oboe I+II auch Oboe da caccia, Fagott, Streicher und Basso...\n\nhttps://eventfrog.de/de/p/klassik-opern/klassik/j-s-bach-bwv-177-ich-ruf-zu-dir-herr-jesu-christ-7432263145685566069.html
LOCATION:Evang.-ref.
GEO:47.531507;8.581659
URL:https://eventfrog.de/de/p/klassik-opern/klassik/j-s-bach-bwv-177-ich-ruf-zu-dir-herr-jesu-christ-7432263145685566069.html
END:VEVENT
END:VCALENDAR