BEGIN:VCALENDAR
VERSION:2.0
PRODID:EVENTFROG//EVENT//ICAL
BEGIN:VEVENT
UID:20260422T013154Z-7432306576243856758@eventfrog.de
DTSTAMP:20260422T013154Z
DTSTART:20260704T070000Z
DTEND:20260704T093000Z
SUMMARY:Herti Bring- und Holmärt
DESCRIPTION:Das HertiLabor-Team startet die Schenkbörse im HertiLabor-Schopf mit gut erhaltenen sauberen Kleidern, Büchern, Haushalt- und Sportartikeln usw. mit kontrollierter Annahme. Viel Spass!\n\nhttps://eventfrog.de/de/p/maerkte/second-hand/herti-bring-und-holmaert-7432306576243856758.html
LOCATION:HertiLabor
GEO:47.521883;8.538194
URL:https://eventfrog.de/de/p/maerkte/second-hand/herti-bring-und-holmaert-7432306576243856758.html
END:VEVENT
END:VCALENDAR