BEGIN:VCALENDAR
VERSION:2.0
PRODID:EVENTFROG//EVENT//ICAL
BEGIN:VEVENT
UID:20260422T013323Z-7432352398021008870@eventfrog.de
DTSTAMP:20260422T013323Z
DTSTART:20260430T163000Z
DTEND:20260430T173000Z
SUMMARY:Lesung: Anarchie - jetzt oder nie
DESCRIPTION:Sylvie-Sophie Schindler liest im Hotel Riverside aus «Anarchie - jetzt oder nie!», einem Plädoyer für herrschaftsfreie Gesellschaft.\n\nhttps://eventfrog.de/de/p/theater-buehne/lesung/lesung-anarchie-jetzt-oder-nie-7432352398021008870.html
LOCATION:Riverside Seminar- und Eventhotel
GEO:47.569352;8.479923
URL:https://eventfrog.de/de/p/theater-buehne/lesung/lesung-anarchie-jetzt-oder-nie-7432352398021008870.html
END:VEVENT
END:VCALENDAR