BEGIN:VCALENDAR
VERSION:2.0
PRODID:EVENTFROG//EVENT//ICAL
BEGIN:VEVENT
UID:20260422T013322Z-7432353874776735538@eventfrog.de
DTSTAMP:20260422T013322Z
DTSTART:20260510T083000Z
DTEND:20260510T120000Z
SUMMARY:Muttertags-Brunch
DESCRIPTION:Am Muttertag findet im Kämmereisaal von 10:30 bis 14:00 Uhr ein Brunch mit warmen und kalten Speisen sowie Getränken statt.\n\nhttps://eventfrog.de/de/p/essen-trinken/muttertags-brunch-7432353874776735538.html
LOCATION:Riverside Seminar- und Eventhotel
GEO:47.569352;8.479923
URL:https://eventfrog.de/de/p/essen-trinken/muttertags-brunch-7432353874776735538.html
END:VEVENT
END:VCALENDAR