BEGIN:VCALENDAR
VERSION:2.0
PRODID:EVENTFROG//EVENT//ICAL
BEGIN:VEVENT
UID:20260422T013301Z-7432369064389933699@eventfrog.de
DTSTAMP:20260422T013301Z
DTSTART:20260620T163000Z
DTEND:20260620T210000Z
SUMMARY:BBQ an der Glatt
DESCRIPTION:Grillfest à discrétion direkt an der Glatt in der Location der ehemaligen Spinnerei\n\nhttps://eventfrog.de/de/p/essen-trinken/bbq-an-der-glatt-7432369064389933699.html
LOCATION:Riverside Seminar- und Eventhotel
GEO:47.569352;8.479923
URL:https://eventfrog.de/de/p/essen-trinken/bbq-an-der-glatt-7432369064389933699.html
END:VEVENT
END:VCALENDAR