BEGIN:VCALENDAR
VERSION:2.0
PRODID:EVENTFROG//EVENT//ICAL
BEGIN:VEVENT
UID:20260422T013322Z-7432370684951582055@eventfrog.de
DTSTAMP:20260422T013322Z
DTSTART:20260704T160000Z
DTEND:20260704T200000Z
SUMMARY:15. Thaifestival
DESCRIPTION:Jubiläumsausgabe des Thaifestival im Riverside - eine langjährige Sommertradition der ehemaligen Spinnerei\n\nhttps://eventfrog.de/de/p/essen-trinken/15-thaifestival-7432370684951582055.html
LOCATION:Riverside Seminar- und Eventhotel
GEO:47.569352;8.479923
URL:https://eventfrog.de/de/p/essen-trinken/15-thaifestival-7432370684951582055.html
END:VEVENT
END:VCALENDAR