BEGIN:VCALENDAR
VERSION:2.0
PRODID:EVENTFROG//EVENT//ICAL
BEGIN:VEVENT
UID:20260422T013150Z-7432371641231908549@eventfrog.de
DTSTAMP:20260422T013150Z
DTSTART:20260911T163000Z
DTEND:20260911T210000Z
SUMMARY:Comedy Dinner mit Lapsus
DESCRIPTION:Humor serviert mit einem 3-Gang Dinner und Live-Comedy mit Lapsus\n\n\nhttps://eventfrog.de/de/p/theater-buehne/comedy-kabarett/comedy-dinner-mit-lapsus-7432371641231908549.html
LOCATION:Riverside Seminar- und Eventhotel
GEO:47.569352;8.479923
URL:https://eventfrog.de/de/p/theater-buehne/comedy-kabarett/comedy-dinner-mit-lapsus-7432371641231908549.html
END:VEVENT
END:VCALENDAR