BEGIN:VCALENDAR
VERSION:2.0
PRODID:EVENTFROG//EVENT//ICAL
BEGIN:VEVENT
UID:20260422T013322Z-7432372319174008001@eventfrog.de
DTSTAMP:20260422T013322Z
DTSTART:20260919T163000Z
DTEND:20260919T210000Z
SUMMARY:Krimi Dinner - Mord auf der Klinik-Feier
DESCRIPTION:Ein spannender Theater-Abend mit einem 4-Gang Dinner\n\n\nhttps://eventfrog.de/de/p/theater-buehne/theater/krimi-dinner-mord-auf-der-klinik-feier-7432372319174008001.html
LOCATION:Riverside Seminar- und Eventhotel
GEO:47.569352;8.479923
URL:https://eventfrog.de/de/p/theater-buehne/theater/krimi-dinner-mord-auf-der-klinik-feier-7432372319174008001.html
END:VEVENT
END:VCALENDAR