BEGIN:VCALENDAR
VERSION:2.0
PRODID:EVENTFROG//EVENT//ICAL
BEGIN:VEVENT
UID:20260422T013152Z-7432373358069609064@eventfrog.de
DTSTAMP:20260422T013152Z
DTSTART:20260926T163000Z
DTEND:20260926T210000Z
SUMMARY:Music Dinner mit Chris & Mike
DESCRIPTION:Die Pianisten und Brüder Chris & Mike performen ein Show-Feuerwerk der Emotionen\n\nhttps://eventfrog.de/de/p/konzerte/weitere-musikrichtungen/music-dinner-mit-chris-mike-7432373358069609064.html
LOCATION:Riverside Seminar- und Eventhotel
GEO:47.569352;8.479923
URL:https://eventfrog.de/de/p/konzerte/weitere-musikrichtungen/music-dinner-mit-chris-mike-7432373358069609064.html
END:VEVENT
END:VCALENDAR