BEGIN:VCALENDAR
VERSION:2.0
PRODID:EVENTFROG//EVENT//ICAL
BEGIN:VEVENT
UID:20260422T013323Z-7432374969907084323@eventfrog.de
DTSTAMP:20260422T013323Z
DTSTART:20261003T143000Z
DTEND:20261003T190000Z
SUMMARY:Ländlerabig im Riverside
DESCRIPTION:3-Gang Dinner mit Auftritt von Ländler Deluxe\n\n\n\nhttps://eventfrog.de/de/p/konzerte/folk/laendlerabig-im-riverside-7432374969907084323.html
LOCATION:Riverside Seminar- und Eventhotel
GEO:47.569352;8.479923
URL:https://eventfrog.de/de/p/konzerte/folk/laendlerabig-im-riverside-7432374969907084323.html
END:VEVENT
END:VCALENDAR