BEGIN:VCALENDAR
VERSION:2.0
PRODID:EVENTFROG//EVENT//ICAL
BEGIN:VEVENT
UID:20260422T013322Z-7432375081760725173@eventfrog.de
DTSTAMP:20260422T013322Z
DTSTART:20260507T170000Z
DTEND:20260507T190000Z
SUMMARY:Paar-Session 3 Bülach  «Wer hat denn da angefangen …!?»
DESCRIPTION:Diese Paar-Session in Bülach zeigt Wege zur konstruktiven Konfliktbewältigung und stärkt die Beziehung durch praktische Impulse.\n\nhttps://eventfrog.de/de/p/diverses/paar-session-3-buelach-wer-hat-denn-da-angefangen-7432375081760725173.html
LOCATION:Bistro Im Guss
GEO:47.526654;8.536140
URL:https://eventfrog.de/de/p/diverses/paar-session-3-buelach-wer-hat-denn-da-angefangen-7432375081760725173.html
END:VEVENT
END:VCALENDAR