BEGIN:VCALENDAR
VERSION:2.0
PRODID:EVENTFROG//EVENT//ICAL
BEGIN:VEVENT
UID:20260422T013303Z-7432387453476950226@eventfrog.de
DTSTAMP:20260422T013303Z
DTSTART:20261024T163000Z
DTEND:20261024T200000Z
SUMMARY:Escape Dinner
DESCRIPTION:Drei Leidenschaften auf einen Schlag: Essen, Wein und Rätsel lösen.\n\n\n\nhttps://eventfrog.de/de/p/essen-trinken/escape-dinner-7432387453476950226.html
LOCATION:Riverside Seminar- und Eventhotel
GEO:47.569352;8.479923
URL:https://eventfrog.de/de/p/essen-trinken/escape-dinner-7432387453476950226.html
END:VEVENT
END:VCALENDAR