BEGIN:VCALENDAR
VERSION:2.0
PRODID:EVENTFROG//EVENT//ICAL
BEGIN:VEVENT
UID:20260422T013302Z-7432388090780491310@eventfrog.de
DTSTAMP:20260422T013302Z
DTSTART:20261107T173000Z
DTEND:20261107T220000Z
SUMMARY:Winzer-Battle
DESCRIPTION:Winzer Peter Gehring und Ueli Kilchsperger treten am 7.11.2026 in einem Wein-Battle mit 5-Gang-Dinner und Comedian Lukas Fehr an.\n\nhttps://eventfrog.de/de/p/essen-trinken/winzer-battle-7432388090780491310.html
LOCATION:Riverside Seminar- und Eventhotel
GEO:47.569352;8.479923
URL:https://eventfrog.de/de/p/essen-trinken/winzer-battle-7432388090780491310.html
END:VEVENT
END:VCALENDAR