BEGIN:VCALENDAR
VERSION:2.0
PRODID:EVENTFROG//EVENT//ICAL
BEGIN:VEVENT
UID:20260422T013302Z-7432690471380469702@eventfrog.de
DTSTAMP:20260422T013302Z
DTSTART:20260530T181500Z
DTEND:20260531T003000Z
SUMMARY:Party-Abend mit ChueLee und den Troglauer
DESCRIPTION:Party-Abend, Stimmung, Spass und gute Laune mit ChueLee und der Volks-Pop-Band Troglauer aus Bayern\n\nhttps://eventfrog.de/de/p/partys/sonstige-partys/party-abend-mit-chuelee-und-den-troglauer-7432690471380469702.html
LOCATION:Festzelt
GEO:47.565672;8.596631
URL:https://eventfrog.de/de/p/partys/sonstige-partys/party-abend-mit-chuelee-und-den-troglauer-7432690471380469702.html
END:VEVENT
END:VCALENDAR