BEGIN:VCALENDAR
VERSION:2.0
PRODID:EVENTFROG//EVENT//ICAL
BEGIN:VEVENT
UID:20260422T102953Z-7432734705508688741@eventfrog.de
DTSTAMP:20260422T102953Z
DTSTART:20260904T073000Z
DTEND:20260906T160000Z
SUMMARY:Gartentage auf Schloss Langenburg
DESCRIPTION:Messe für Garten und stilvolles Wohnen mit über 170 ausgesuchten Ausstellern\n\nhttps://eventfrog.de/de/p/messen/gartenschau/gartentage-auf-schloss-langenburg-7432734705508688741.html
LOCATION:Schloss Langenburg
GEO:49.253516;9.844062
URL:https://eventfrog.de/de/p/messen/gartenschau/gartentage-auf-schloss-langenburg-7432734705508688741.html
END:VEVENT
END:VCALENDAR