BEGIN:VCALENDAR
VERSION:2.0
PRODID:EVENTFROG//EVENT//ICAL
BEGIN:VEVENT
UID:20260420T034524Z-7432789430530743686@eventfrog.de
DTSTAMP:20260420T034524Z
DTSTART:20260509T041500Z
DTEND:20260509T190000Z
SUMMARY:Zürich Together Goes Europa-Park!
DESCRIPTION:Tagesausflug zum Europa-Park mit Abfahrt um 06:15 Uhr, Eintritt und Bus sind buchbar.\n\nhttps://eventfrog.de/de/p/freizeit-ausfluege/ausflug/zuerich-together-goes-europa-park-7432789430530743686.html
LOCATION:Europapark Rust
GEO:48.264395;7.716463
URL:https://eventfrog.de/de/p/freizeit-ausfluege/ausflug/zuerich-together-goes-europa-park-7432789430530743686.html
END:VEVENT
END:VCALENDAR