BEGIN:VCALENDAR
VERSION:2.0
PRODID:EVENTFROG//EVENT//ICAL
BEGIN:VEVENT
UID:20260422T013301Z-7433065904701737794@eventfrog.de
DTSTAMP:20260422T013301Z
DTSTART:20260705T073000Z
DTEND:20260705T133000Z
SUMMARY:Mountainbike Tageskurs Sprünge und Drops
DESCRIPTION:Der Tageskurs Sprünge und Drops eignet sich für fortgeschrittene Mountainbiker. Wir werden an diesem Kurs lernen, wie du Sprünge und Drops sicher meistern kannst. \n\nhttps://eventfrog.de/de/p/sport-fitness/radsport/mountainbike-tageskurs-spruenge-und-drops-7433065904701737794.html
LOCATION:Bikepark Bülach
GEO:47.516067;8.541960
URL:https://eventfrog.de/de/p/sport-fitness/radsport/mountainbike-tageskurs-spruenge-und-drops-7433065904701737794.html
END:VEVENT
END:VCALENDAR