BEGIN:VCALENDAR
VERSION:2.0
PRODID:EVENTFROG//EVENT//ICAL
BEGIN:VEVENT
UID:20260425T204437Z-7434909291067241192@eventfrog.de
DTSTAMP:20260425T204437Z
DTSTART:20260711T120000Z
DTEND:20260712T030000Z
SUMMARY:Seelenklang Festival
DESCRIPTION:Am 11. Juli findet in Grellingen ein Open Air mit House, Melodic Techno und Trance statt, gefolgt von einer Afterparty im Aurathebunker.\n\nhttps://eventfrog.de/de/p/partys/house-techno/seelenklang-festival-7434909291067241192.html
LOCATION:AURATHEBUNKER
GEO:47.443472;7.598682
URL:https://eventfrog.de/de/p/partys/house-techno/seelenklang-festival-7434909291067241192.html
END:VEVENT
END:VCALENDAR