BEGIN:VCALENDAR
VERSION:2.0
PRODID:EVENTFROG//EVENT//ICAL
BEGIN:VEVENT
UID:20260422T013301Z-7435097587227570129@eventfrog.de
DTSTAMP:20260422T013301Z
DTSTART:20260510T140000Z
DTEND:20260510T150000Z
SUMMARY:Temperamentvoll. Kapustin, Schnyder & finnische Tangos
DESCRIPTION:Kammermusikalisches Arrangement.\n\nhttps://eventfrog.de/de/p/konzerte/temperamentvoll-kapustin-schnyder-finnische-tangos-7435097587227570129.html
LOCATION:Stiftung Begegnungszentrum Rüdlingen
GEO:47.588226;8.568220
URL:https://eventfrog.de/de/p/konzerte/temperamentvoll-kapustin-schnyder-finnische-tangos-7435097587227570129.html
END:VEVENT
END:VCALENDAR