BEGIN:VCALENDAR
VERSION:2.0
PRODID:EVENTFROG//EVENT//ICAL
BEGIN:VEVENT
UID:20260425T203304Z-7435252224215801964@eventfrog.de
DTSTAMP:20260425T203304Z
DTSTART:20260425T200000Z
DTEND:20260426T020000Z
SUMMARY:Ritmo Caliente - Grand Reopening Party
DESCRIPTION:AURATHEBUNKER feiert am 25.04.26 mit Latin und Afro House das Reopening. Ladies haben freien Eintritt.\n\nhttps://eventfrog.de/de/p/partys/house-techno/ritmo-caliente-grand-reopening-party-7435252224215801964.html
LOCATION:AURATHEBUNKER
GEO:47.443472;7.598682
URL:https://eventfrog.de/de/p/partys/house-techno/ritmo-caliente-grand-reopening-party-7435252224215801964.html
END:VEVENT
END:VCALENDAR