BEGIN:VCALENDAR
VERSION:2.0
PRODID:EVENTFROG//EVENT//ICAL
BEGIN:VEVENT
UID:20260422T013144Z-7435274684738861701@eventfrog.de
DTSTAMP:20260422T013144Z
DTSTART:20260505T123000Z
DTEND:20260505T143000Z
SUMMARY:Spielplatz Plus Füchsli
DESCRIPTION:Niederschwelliges Informationsangebot\n\nhttps://eventfrog.de/de/p/freizeit-ausfluege/sonstige-veranstaltungen/spielplatz-plus-fuechsli-7435274684738861701.html
LOCATION:Spielplatz Füchsli
GEO:47.523818;8.543140
URL:https://eventfrog.de/de/p/freizeit-ausfluege/sonstige-veranstaltungen/spielplatz-plus-fuechsli-7435274684738861701.html
END:VEVENT
END:VCALENDAR