BEGIN:VCALENDAR
VERSION:2.0
PRODID:EVENTFROG//EVENT//ICAL
BEGIN:VEVENT
UID:20260422T013152Z-7435275046539542101@eventfrog.de
DTSTAMP:20260422T013152Z
DTSTART:20260618T073000Z
DTEND:20260618T093000Z
SUMMARY:Spielplatz Plus Füchsli
DESCRIPTION:Niederschwelliges Informationsangebot\n\nhttps://eventfrog.de/de/p/freizeit-ausfluege/sonstige-veranstaltungen/spielplatz-plus-fuechsli-7435275046539542101.html
LOCATION:Spielplatz Füchsli
GEO:47.523818;8.543140
URL:https://eventfrog.de/de/p/freizeit-ausfluege/sonstige-veranstaltungen/spielplatz-plus-fuechsli-7435275046539542101.html
END:VEVENT
END:VCALENDAR