BEGIN:VCALENDAR
VERSION:2.0
PRODID:EVENTFROG//EVENT//ICAL
BEGIN:VEVENT
UID:20260422T013145Z-7435279149088942777@eventfrog.de
DTSTAMP:20260422T013145Z
DTSTART:20260520T123000Z
DTEND:20260520T143000Z
SUMMARY:Spielplatz Plus Lindenhof
DESCRIPTION:Niederschwelliges Informationsangebot\n\nhttps://eventfrog.de/de/p/freizeit-ausfluege/ausflug/spielplatz-plus-lindenhof-7435279149088942777.html
LOCATION:Spielplatz Lindenhof
GEO:47.519987;8.537726
URL:https://eventfrog.de/de/p/freizeit-ausfluege/ausflug/spielplatz-plus-lindenhof-7435279149088942777.html
END:VEVENT
END:VCALENDAR