BEGIN:VCALENDAR
VERSION:2.0
PRODID:EVENTFROG//EVENT//ICAL
BEGIN:VEVENT
UID:20260422T013155Z-7435281847880262607@eventfrog.de
DTSTAMP:20260422T013155Z
DTSTART:20260709T163000Z
DTEND:20260709T203000Z
SUMMARY:Grill Party "Wine&Dine"
DESCRIPTION:«Grill Tavolata» \nErleben Sie eine Tavolata mit Aperitif, zwölf Gerichten in vier Gängen, begleitet von vier Weinen, Espresso und Mineralwasser. \n\nhttps://eventfrog.de/de/p/essen-trinken/grill-party-wine-dine-7435281847880262607.html
LOCATION:Gasthaus Hans im Glück
GEO:47.452147;8.596022
URL:https://eventfrog.de/de/p/essen-trinken/grill-party-wine-dine-7435281847880262607.html
END:VEVENT
END:VCALENDAR