BEGIN:VCALENDAR
VERSION:2.0
PRODID:EVENTFROG//EVENT//ICAL
BEGIN:VEVENT
UID:20260422T013148Z-7435293535249675682@eventfrog.de
DTSTAMP:20260422T013148Z
DTSTART:20260910T163000Z
DTEND:20260910T203000Z
SUMMARY:Wild - Tavolata "Wine&Dine"
DESCRIPTION:«Wild-Tavolata» \nErleben Sie eine Tavolata mit Aperitif, zwölf Gerichten in vier Gängen, begleitet von vier Weinen, Espresso und Mineralwasser. \n\nhttps://eventfrog.de/de/p/essen-trinken/wild-tavolata-wine-dine-7435293535249675682.html
LOCATION:Gasthaus Hans im Glück
GEO:47.452147;8.596022
URL:https://eventfrog.de/de/p/essen-trinken/wild-tavolata-wine-dine-7435293535249675682.html
END:VEVENT
END:VCALENDAR