BEGIN:VCALENDAR
VERSION:2.0
PRODID:EVENTFROG//EVENT//ICAL
BEGIN:VEVENT
UID:20260422T013147Z-7435336199244400339@eventfrog.de
DTSTAMP:20260422T013147Z
DTSTART:20261126T173000Z
DTEND:20261126T213000Z
SUMMARY:Trüffel - Tavolata "Wine&Dine"
DESCRIPTION:«Trüffel-Tavolata» \nErleben Sie eine Tavolata mit Aperitif, zwölf Gerichten in vier Gängen, begleitet von vier Weinen, Espresso und Mineralwasser. \n\nhttps://eventfrog.de/de/p/essen-trinken/trueffel-tavolata-wine-dine-7435336199244400339.html
LOCATION:Gasthaus Hans im Glück
GEO:47.452147;8.596022
URL:https://eventfrog.de/de/p/essen-trinken/trueffel-tavolata-wine-dine-7435336199244400339.html
END:VEVENT
END:VCALENDAR