BEGIN:VCALENDAR
VERSION:2.0
PRODID:EVENTFROG//EVENT//ICAL
BEGIN:VEVENT
UID:20260422T013154Z-7435343302067505825@eventfrog.de
DTSTAMP:20260422T013154Z
DTSTART:20270107T173000Z
DTEND:20270107T213000Z
SUMMARY:65 - Tavolata "Wine-Battle&Dine"
DESCRIPTION:Zum 65. Geburtstag von Hansruedi duellieren sich Rossi & Markus mit ihren Weinen und Hansruedi serviert seine Speisen aus 47 Jahren Kocherfahrungen! \n\nhttps://eventfrog.de/de/p/essen-trinken/65-tavolata-wine-battle-dine-7435343302067505825.html
LOCATION:Gasthaus Hans im Glück
GEO:47.452147;8.596022
URL:https://eventfrog.de/de/p/essen-trinken/65-tavolata-wine-battle-dine-7435343302067505825.html
END:VEVENT
END:VCALENDAR