BEGIN:VCALENDAR
VERSION:2.0
PRODID:EVENTFROG//EVENT//ICAL
BEGIN:VEVENT
UID:20260422T013148Z-7435671389674206152@eventfrog.de
DTSTAMP:20260422T013148Z
DTSTART:20260520T180000Z
DTEND:20260520T200000Z
SUMMARY:Fabian Unteregger - hautnah in Bülach
DESCRIPTION:Fabian Unteregger präsentiert sein Programm «Fachkräftemangel» hautnah vor nur knapp 300 Gästen im Grampen. Der Erlös geht zugunsten des Erweiterungsbaus Grampen 2.\n\nhttps://eventfrog.de/de/p/theater-buehne/comedy-kabarett/fabian-unteregger-hautnah-in-buelach-7435671389674206152.html
LOCATION:Stiftung Alterszentrum Region Bülach
GEO:47.515705;8.539195
URL:https://eventfrog.de/de/p/theater-buehne/comedy-kabarett/fabian-unteregger-hautnah-in-buelach-7435671389674206152.html
END:VEVENT
END:VCALENDAR