BEGIN:VCALENDAR
VERSION:2.0
PRODID:EVENTFROG//EVENT//ICAL
BEGIN:VEVENT
UID:20260422T013143Z-7435933563185296009@eventfrog.de
DTSTAMP:20260422T013143Z
DTSTART:20261219T160000Z
DTEND:20261219T190000Z
SUMMARY:Adventsfenster
DESCRIPTION:Save the Date Adventsfenster Glasi\n\nhttps://eventfrog.de/de/p/diverses/adventsfenster-7435933563185296009.html
LOCATION:Glasi Saal
GEO:47.526242;8.534883
URL:https://eventfrog.de/de/p/diverses/adventsfenster-7435933563185296009.html
END:VEVENT
END:VCALENDAR