BEGIN:VCALENDAR
VERSION:2.0
PRODID:EVENTFROG//EVENT//ICAL
BEGIN:VEVENT
UID:20260425T142536Z-7436735740409579409@eventfrog.de
DTSTAMP:20260425T142536Z
DTSTART:20260427T163000Z
DTEND:20260502T090000Z
SUMMARY:6-Tages-Retreat im Little Paradise bei Hamburg
DESCRIPTION:Hauptthemen des Retreats bei Hamburg sind: Einkehr, Rückverbindung, Selbstfindung, Meditation, Stille und Natur.\n\nhttps://eventfrog.de/de/p/gesundheit-spiritualitaet/spiritualitaet/6-tages-retreat-im-little-paradise-bei-hamburg-7436735740409579409.html
LOCATION:Little Paradise
GEO:53.652993;10.327540
URL:https://eventfrog.de/de/p/gesundheit-spiritualitaet/spiritualitaet/6-tages-retreat-im-little-paradise-bei-hamburg-7436735740409579409.html
END:VEVENT
END:VCALENDAR