BEGIN:VCALENDAR
VERSION:2.0
PRODID:EVENTFROG//EVENT//ICAL
BEGIN:VEVENT
UID:20260425T203302Z-7437129357485734919@eventfrog.de
DTSTAMP:20260425T203302Z
DTSTART:20260502T200000Z
DTEND:20260503T020000Z
SUMMARY:La Boutique
DESCRIPTION:Die elegante Partyreihe "La Boutique" über den Dächern von Basel. Verspricht Glamour, Stil und tolle Musik. \n\nhttps://eventfrog.de/de/p/partys/charts-open-format/la-boutique-7437129357485734919.html
LOCATION:Bar Rouge - Rooftop Bar & Club
GEO:47.564526;7.601918
URL:https://eventfrog.de/de/p/partys/charts-open-format/la-boutique-7437129357485734919.html
END:VEVENT
END:VCALENDAR