BEGIN:VCALENDAR
VERSION:2.0
PRODID:EVENTFROG//EVENT//ICAL
BEGIN:VEVENT
UID:20260419T191230Z-7439296107635574269@eventfrog.de
DTSTAMP:20260419T191230Z
DTSTART:20261024T080000Z
DTEND:20261024T180000Z
SUMMARY:Mit Kind und Kegel
DESCRIPTION:Kleingruppen von mindestens 5 Personen erhalten ermäßigten Eintritt.\n\nhttps://eventfrog.de/de/p/diverses/mit-kind-und-kegel-7439296107635574269.html
LOCATION:Erlebnispark Tripdrill
GEO:49.030324;9.051413
URL:https://eventfrog.de/de/p/diverses/mit-kind-und-kegel-7439296107635574269.html
END:VEVENT
END:VCALENDAR