BEGIN:VCALENDAR
VERSION:2.0
PRODID:EVENTFROG//EVENT//ICAL
BEGIN:VEVENT
UID:20260425T203350Z-7439467662588006712@eventfrog.de
DTSTAMP:20260425T203350Z
DTSTART:20261231T210000Z
SUMMARY:KINKER NewYearsEve
DESCRIPTION:Join us at KINKER Club for a New Year's Eve Party filled with electronic music and celebration. Dance into the new year with our resident DJs and special guests. Get your tickets now!\n\nhttps://eventfrog.de/de/p/partys/house-techno/kinker-newyearseve-7439467662588006712.html
LOCATION:KINKER
GEO:47.530678;7.607142
URL:https://eventfrog.de/de/p/partys/house-techno/kinker-newyearseve-7439467662588006712.html
END:VEVENT
END:VCALENDAR