BEGIN:VCALENDAR
VERSION:2.0
PRODID:EVENTFROG//EVENT//ICAL
BEGIN:VEVENT
UID:20260425T201546Z-7439716472228686657@eventfrog.de
DTSTAMP:20260425T201546Z
DTSTART:20260430T180000Z
SUMMARY:Niente Jazz: AY WING Duo
DESCRIPTION:Ay Wing aus Zug präsentiert im Niente-Jazz-Duo eigene Songs, darunter unveröffentlichte Titel, mit Fokus auf Stimme und Songwriting.\n\nhttps://eventfrog.de/de/p/konzerte/pop-rock/niente-jazz-ay-wing-duo-7439716472228686657.html
LOCATION:Atelier- und Kulturhaus Gewürzmühle
GEO:47.181129;8.502345
URL:https://eventfrog.de/de/p/konzerte/pop-rock/niente-jazz-ay-wing-duo-7439716472228686657.html
END:VEVENT
END:VCALENDAR