BEGIN:VCALENDAR
VERSION:2.0
PRODID:EVENTFROG//EVENT//ICAL
BEGIN:VEVENT
UID:20260425T203342Z-7439745057362550135@eventfrog.de
DTSTAMP:20260425T203342Z
DTSTART:20260813T170000Z
DTEND:20260813T190500Z
SUMMARY:Hallo Betty im RüssKino
DESCRIPTION:Das RüssKino in der historischen Holz-Tunnelbrücke bietet Filmgenuss in einmaliger Atmosphäre bei jedem Wetter.\n\nhttps://eventfrog.de/de/p/freizeit-ausfluege/film-kino/hallo-betty-im-ruesskino-7439745057362550135.html
LOCATION:RüssKino
GEO:47.186641;8.401430
URL:https://eventfrog.de/de/p/freizeit-ausfluege/film-kino/hallo-betty-im-ruesskino-7439745057362550135.html
END:VEVENT
END:VCALENDAR