BEGIN:VCALENDAR
VERSION:2.0
PRODID:EVENTFROG//EVENT//ICAL
BEGIN:VEVENT
UID:20260425T203305Z-7439745450670858191@eventfrog.de
DTSTAMP:20260425T203305Z
DTSTART:20260814T170000Z
DTEND:20260814T192100Z
SUMMARY:Roofman im RüssKino
DESCRIPTION:Das RüssKino in der historischen Holz-Tunnelbrücke bietet Filmgenuss in einmaliger Atmosphäre bei jedem Wetter.\n\nhttps://eventfrog.de/de/p/freizeit-ausfluege/film-kino/roofman-im-ruesskino-7439745450670858191.html
LOCATION:RüssKino
GEO:47.186641;8.401430
URL:https://eventfrog.de/de/p/freizeit-ausfluege/film-kino/roofman-im-ruesskino-7439745450670858191.html
END:VEVENT
END:VCALENDAR