BEGIN:VCALENDAR
VERSION:2.0
PRODID:EVENTFROG//EVENT//ICAL
BEGIN:VEVENT
UID:20260425T203344Z-7439745722629490364@eventfrog.de
DTSTAMP:20260425T203344Z
DTSTART:20260815T120000Z
DTEND:20260815T133700Z
SUMMARY:Tafiti im RüssKino
DESCRIPTION:Das RüssKino in der historischen Holz-Tunnelbrücke bietet Filmgenuss in einmaliger Atmosphäre bei jedem Wetter.\n\nhttps://eventfrog.de/de/p/freizeit-ausfluege/film-kino/tafiti-im-ruesskino-7439745722629490364.html
LOCATION:RüssKino
GEO:47.186641;8.401430
URL:https://eventfrog.de/de/p/freizeit-ausfluege/film-kino/tafiti-im-ruesskino-7439745722629490364.html
END:VEVENT
END:VCALENDAR