BEGIN:VCALENDAR
VERSION:2.0
PRODID:EVENTFROG//EVENT//ICAL
BEGIN:VEVENT
UID:20260425T201357Z-7440019470347674563@eventfrog.de
DTSTAMP:20260425T201357Z
DTSTART:20260505T170000Z
DTEND:20260505T183000Z
SUMMARY:Theater-Show von IMPROPHIL
DESCRIPTION:Das Theater IMPROPHIL zeigt seit 25 Jahren ein spontanes, charmantes Improvisationstheater voller Situationskomik und Lebensfreude.\n\nhttps://eventfrog.de/de/p/theater-buehne/theater/theater-show-von-improphil-7440019470347674563.html
LOCATION:Dialoghotel Eckstein
GEO:47.196980;8.530177
URL:https://eventfrog.de/de/p/theater-buehne/theater/theater-show-von-improphil-7440019470347674563.html
END:VEVENT
END:VCALENDAR