BEGIN:VCALENDAR
VERSION:2.0
PRODID:EVENTFROG//EVENT//ICAL
BEGIN:VEVENT
UID:20260425T201232Z-7440073700190233604@eventfrog.de
DTSTAMP:20260425T201232Z
DTSTART:20260530T180000Z
DTEND:20260530T210000Z
SUMMARY:TheRed
DESCRIPTION:Das junge Vokalensemble TheRed bringt Jazz, Pop und die besten 80er-Hits auf die Bühne – mit einer energiegeladenen Live-Band und kraftvollen Stimmen. Seid dabei und sichert euch ein Ticket.\n\nhttps://eventfrog.de/de/p/konzerte/jazz-blues/thered-7440073700190233604.html
LOCATION:industrie45
GEO:47.182217;8.520759
URL:https://eventfrog.de/de/p/konzerte/jazz-blues/thered-7440073700190233604.html
END:VEVENT
END:VCALENDAR