BEGIN:VCALENDAR
VERSION:2.0
PRODID:EVENTFROG//EVENT//ICAL
BEGIN:VEVENT
UID:20260425T141545Z-7440137039960364104@eventfrog.de
DTSTAMP:20260425T141545Z
DTSTART:20260428T170000Z
DTEND:20260428T181500Z
SUMMARY:ReSet Sound Bath
DESCRIPTION:Eintauche in Klänge tibetischer Klangschalen, lass Gedanken los und finde Ruhe und Harmonie bei einem Sound Bath. Teilnahme bei bestimmten gesundheitlichen Bedingungen nicht empfohlen. \n\nhttps://eventfrog.de/de/p/gesundheit-spiritualitaet/gesundheit-wohlbefinden/reset-sound-bath-7440137039960364104.html
LOCATION:Eiserfelder Str. 289
GEO:50.845792;7.987544
URL:https://eventfrog.de/de/p/gesundheit-spiritualitaet/gesundheit-wohlbefinden/reset-sound-bath-7440137039960364104.html
END:VEVENT
END:VCALENDAR