BEGIN:VCALENDAR
VERSION:2.0
PRODID:EVENTFROG//EVENT//ICAL
BEGIN:VEVENT
UID:20260425T201232Z-7440236134435674901@eventfrog.de
DTSTAMP:20260425T201232Z
DTSTART:20260509T160000Z
DTEND:20260509T190000Z
SUMMARY:Jodlermesse mit anschliessendem Muttertagskonzert
DESCRIPTION:BesucherInnen geniessen eine Jodlermesse mit anschliessendem Konzert.\n\nhttps://eventfrog.de/de/p/konzerte/weitere-musikrichtungen/jodlermesse-mit-anschliessendem-muttertagskonzert-7440236134435674901.html
LOCATION:Kirche St. Martin
GEO:47.194564;8.522196
URL:https://eventfrog.de/de/p/konzerte/weitere-musikrichtungen/jodlermesse-mit-anschliessendem-muttertagskonzert-7440236134435674901.html
END:VEVENT
END:VCALENDAR