BEGIN:VCALENDAR
VERSION:2.0
PRODID:EVENTFROG//EVENT//ICAL
BEGIN:VEVENT
UID:20260422T013151Z-7440367338577244815@eventfrog.de
DTSTAMP:20260422T013151Z
DTSTART:20260510T080000Z
DTEND:20260510T140000Z
SUMMARY:Chère Maman - Muttertagsbrunch im Sablier
DESCRIPTION:Einfach mal Danke sagen – laden Sie Ihre Mama an diesem besonderen Tag zu einem gemütlichen Muttertagsbrunch im Sablier ein. \n\nhttps://eventfrog.de/de/p/essen-trinken/chere-maman-muttertagsbrunch-im-sablier-7440367338577244815.html
LOCATION:Sablier Rooftop Restaurant & Bar
GEO:47.451088;8.566693
URL:https://eventfrog.de/de/p/essen-trinken/chere-maman-muttertagsbrunch-im-sablier-7440367338577244815.html
END:VEVENT
END:VCALENDAR